BEGIN:VCALENDAR
VERSION:2.0
PRODID:SchoolNow
CALSCALE:GREGORIAN
BEGIN:VEVENT
UID:2f7dcb4c-fffa-11ee-a5fd-0affdac7174f
DTSTAMP:20240421T161409Z
SUMMARY:School Town Hall Meeting: Topics of School Safety and Social Emotio
 nal Learning
URL;VALUE=URI:https://www.tricreek.k12.in.us/calendar/5830135/school-town-h
 all-meeting-topics-of-school-safety-and-social-emotional-learning
DTSTART:20240424T233000Z
DTEND:20240425T013000Z
END:VEVENT
END:VCALENDAR
