BEGIN:VCALENDAR
VERSION:2.0
PRODID:SchoolNow
CALSCALE:GREGORIAN
BEGIN:VEVENT
UID:c9add010-9318-11f0-97b2-0a58a9feac02
DTSTAMP:20260420T075007Z
SUMMARY:Two-hour EARLY DISMISSAL
URL;VALUE=URI:https://www.tricreek.k12.in.us/calendar/8628875/two-hour-earl
 y-dismissal
DTSTART;VALUE=DATE:20260401
DTEND;VALUE=DATE:20260402
END:VEVENT
END:VCALENDAR
