BEGIN:VCALENDAR
VERSION:2.0
PRODID:SchoolNow
CALSCALE:GREGORIAN
BEGIN:VEVENT
UID:c9add1c8-9318-11f0-9f6e-0a58a9feac02
DTSTAMP:20260420T075007Z
SUMMARY:NO SCHOOL/FLEX DAY
URL;VALUE=URI:https://www.tricreek.k12.in.us/calendar/8628877/no-school-fle
 x-day
DTSTART;VALUE=DATE:20260406
DTEND;VALUE=DATE:20260407
END:VEVENT
END:VCALENDAR
