BEGIN:VCALENDAR
VERSION:2.0
PRODID:SchoolNow
CALSCALE:GREGORIAN
BEGIN:VEVENT
UID:c9adf4f0-9318-11f0-9077-0a58a9feac02
DTSTAMP:20260420T200008Z
SUMMARY:School Board Meeting
LOCATION:Administration Office Board Room\, (Campus of Lowell High School\,
  Door 3)\, 2055 East Commercial Avenue\, Lowell\, Indiana
URL;VALUE=URI:https://www.tricreek.k12.in.us/calendar/8628916/school-board-
 meeting
DTSTART:20261211T010000Z
DTEND:20261211T030000Z
END:VEVENT
END:VCALENDAR
