BEGIN:VCALENDAR
VERSION:2.0
PRODID:SchoolNow
CALSCALE:GREGORIAN
BEGIN:VEVENT
UID:c9adf86a-9318-11f0-a1f9-0a58a9feac02
DTSTAMP:20260421T020507Z
SUMMARY:School Board Meeting
LOCATION:Administration Office Board Room\, (Campus of Lowell High School\,
  Door 3)\, 2055 East Commercial Avenue\, Lowell\, Indiana
URL;VALUE=URI:https://www.tricreek.k12.in.us/calendar/8628920/school-board-
 meeting
DTSTART:20270409T000000Z
DTEND:20270409T020000Z
END:VEVENT
END:VCALENDAR
