BEGIN:VCALENDAR
VERSION:2.0
PRODID:SchoolNow
CALSCALE:GREGORIAN
BEGIN:VEVENT
UID:098439a2-d7bd-11f0-b133-0a58a9feac02
DTSTAMP:20260421T081008Z
SUMMARY:School Board Meeting
LOCATION:Administration Office Board Room\, (Campus of Lowell High School\,
  Door 3)\, 2055 East Commercial Avenue\, Lowell\, Indiana
URL;VALUE=URI:https://www.tricreek.k12.in.us/calendar/8823217/school-board-
 meeting
DTSTART:20270813T000000Z
DTEND:20270813T020000Z
END:VEVENT
END:VCALENDAR
