BEGIN:VCALENDAR
VERSION:2.0
PRODID:SchoolNow
CALSCALE:GREGORIAN
BEGIN:VEVENT
UID:e005d572-edd8-11f0-b3bc-02eca7d952f7
DTSTAMP:20260421T141508Z
SUMMARY:School Board Meeting
LOCATION:Administration Office Board Room\, (Campus of Lowell High School\,
  Door 3)\, 2055 East Commercial Avenue\, Lowell\, Indiana
URL;VALUE=URI:https://www.tricreek.k12.in.us/calendar/8833993/school-board-
 meeting
DTSTART:20270910T000000Z
DTEND:20270910T020000Z
END:VEVENT
END:VCALENDAR
