BEGIN:VCALENDAR
VERSION:2.0
PRODID:SchoolNow
CALSCALE:GREGORIAN
BEGIN:VEVENT
UID:b0d9499c-0a2e-11f1-b1e3-0a58a9feac02
DTSTAMP:20260421T141508Z
SUMMARY:School Board Meeting
LOCATION:Administration Office Board Room\, (Campus of Lowell High School\,
  Door 3)\, 2055 East Commercial Avenue\, Lowell\, Indiana
URL;VALUE=URI:https://www.tricreek.k12.in.us/calendar/8856202/school-board-
 meeting
DTSTART:20271015T000000Z
DTEND:20271015T020000Z
END:VEVENT
END:VCALENDAR
