BEGIN:VCALENDAR
VERSION:2.0
PRODID:SchoolNow
CALSCALE:GREGORIAN
BEGIN:VEVENT
UID:4dea74a4-1db2-11f1-b39c-0eda41585947
DTSTAMP:20260421T141508Z
SUMMARY:School Board Meeting
LOCATION:Administration Office Board Room\, (Campus of Lowell High School\,
  Door 3)\, 2055 East Commercial Avenue\, Lowell\, Indiana
URL;VALUE=URI:https://www.tricreek.k12.in.us/calendar/8911018/school-board-
 meeting
DTSTART:20271112T010000Z
DTEND:20271112T030000Z
END:VEVENT
END:VCALENDAR
