BEGIN:VCALENDAR
VERSION:2.0
PRODID:SchoolNow
CALSCALE:GREGORIAN
BEGIN:VEVENT
UID:59a48680-3497-11f1-a890-0a58a9feac02
DTSTAMP:20260421T141508Z
SUMMARY:School Board Meeting
LOCATION:Administration Office Board Room\, (Campus of Lowell High School\,
  Door 3)\, 2055 East Commercial Avenue\, Lowell\, Indiana
URL;VALUE=URI:https://www.tricreek.k12.in.us/calendar/8983160/school-board-
 meeting
DTSTART:20271210T010000Z
DTEND:20271210T030000Z
END:VEVENT
END:VCALENDAR
