BEGIN:VCALENDAR
VERSION:2.0
PRODID:SchoolNow
CALSCALE:GREGORIAN
BEGIN:VEVENT
UID:7d7c6f6a-3dbf-11f1-bb03-0a58a9feac02
DTSTAMP:20260422T022507Z
SUMMARY:Tri-Creek Board of School Trustees — Executive Session
LOCATION:District Administration Office\, 2055 East Commercial Avenue\, Low
 ell\, Indiana
URL;VALUE=URI:https://www.tricreek.k12.in.us/calendar/9009684/tri-creek-boa
 rd-of-school-trustees-executive-session
DTSTART:20260427T170000Z
DTEND:20260427T180000Z
END:VEVENT
END:VCALENDAR
