BEGIN:VCALENDAR
VERSION:2.0
PRODID:SchoolNow
CALSCALE:GREGORIAN
BEGIN:VEVENT
UID:8c86f24a-d9e9-11ef-93cc-0a58a9feac02
DTSTAMP:20250124T002418Z
SUMMARY:Volleyball (Girls JV) - Highland High School
LOCATION:Lowell Senior High School
URL;VALUE=URI:https://www.tricreek.k12.in.us/lhs/calendar/7360387/volleybal
 l-girls-jv-highland-high-school
DTSTART:20250826T220000Z
DTEND:20250827T000000Z
END:VEVENT
END:VCALENDAR
