BEGIN:VCALENDAR
VERSION:2.0
PRODID:SchoolNow
CALSCALE:GREGORIAN
BEGIN:VEVENT
UID:8c8725e4-d9e9-11ef-a6eb-0a58a9feac02
DTSTAMP:20250124T002418Z
SUMMARY:Volleyball (Girls JV) - Hanover Central Jr-Sr High School
LOCATION:Lowell Senior High School
URL;VALUE=URI:https://www.tricreek.k12.in.us/lhs/calendar/7360388/volleybal
 l-girls-jv-hanover-central-jr-sr-high-school
DTSTART:20241010T223000Z
DTEND:20241011T003000Z
END:VEVENT
END:VCALENDAR
