BEGIN:VCALENDAR
VERSION:2.0
PRODID:SchoolNow
CALSCALE:GREGORIAN
BEGIN:VEVENT
UID:8c872b0c-d9e9-11ef-aa66-0a58a9feac02
DTSTAMP:20250124T002418Z
SUMMARY:Volleyball (Girls JV) @ Highland High School
LOCATION:Highland High School
URL;VALUE=URI:https://www.tricreek.k12.in.us/lhs/calendar/7360389/volleybal
 l-girls-jv-highland-high-school
DTSTART:20240924T223000Z
DTEND:20240925T003000Z
END:VEVENT
END:VCALENDAR
