BEGIN:VCALENDAR
VERSION:2.0
PRODID:SchoolNow
CALSCALE:GREGORIAN
BEGIN:VEVENT
UID:8c872cd8-d9e9-11ef-ae0c-0a58a9feac02
DTSTAMP:20250124T002418Z
SUMMARY:Volleyball (Girls JV) - Munster High School
LOCATION:Lowell Senior High School
URL;VALUE=URI:https://www.tricreek.k12.in.us/lhs/calendar/7360390/volleybal
 l-girls-jv-munster-high-school
DTSTART:20250925T223000Z
DTEND:20250926T003000Z
END:VEVENT
END:VCALENDAR
