BEGIN:VCALENDAR
VERSION:2.0
PRODID:SchoolNow
CALSCALE:GREGORIAN
BEGIN:VEVENT
UID:8c872dfa-d9e9-11ef-8d13-0a58a9feac02
DTSTAMP:20250124T002418Z
SUMMARY:Volleyball (Girls JV) @ Kankakee Valley High School
LOCATION:Kankakee Valley High School
URL;VALUE=URI:https://www.tricreek.k12.in.us/lhs/calendar/7360391/volleybal
 l-girls-jv-kankakee-valley-high-school
DTSTART:20241001T223000Z
DTEND:20241002T003000Z
END:VEVENT
END:VCALENDAR
