BEGIN:VCALENDAR
VERSION:2.0
PRODID:SchoolNow
CALSCALE:GREGORIAN
BEGIN:VEVENT
UID:8c873002-d9e9-11ef-a7de-0a58a9feac02
DTSTAMP:20250124T002418Z
SUMMARY:Volleyball (Girls JV) @ Kankakee Valley High School
LOCATION:Kankakee Valley High School
URL;VALUE=URI:https://www.tricreek.k12.in.us/lhs/calendar/7360393/volleybal
 l-girls-jv-kankakee-valley-high-school
DTSTART:20250902T223000Z
DTEND:20250903T003000Z
END:VEVENT
END:VCALENDAR
