BEGIN:VCALENDAR
VERSION:2.0
PRODID:SchoolNow
CALSCALE:GREGORIAN
BEGIN:VEVENT
UID:8c8730fc-d9e9-11ef-b226-0a58a9feac02
DTSTAMP:20250124T002418Z
SUMMARY:Volleyball (Girls JV) @ LC JV Invitational
LOCATION:Lake Central High School
URL;VALUE=URI:https://www.tricreek.k12.in.us/lhs/calendar/7360394/volleybal
 l-girls-jv-lc-jv-invitational
DTSTART:20250823T140000Z
DTEND:20250823T160000Z
END:VEVENT
END:VCALENDAR
