BEGIN:VCALENDAR
VERSION:2.0
PRODID:SchoolNow
CALSCALE:GREGORIAN
BEGIN:VEVENT
UID:8c8731ec-d9e9-11ef-b516-0a58a9feac02
DTSTAMP:20250124T002418Z
SUMMARY:Volleyball (Girls JV) @ LaPorte High School (LaPorte JV Tourney)
LOCATION:LaPorte High School
URL;VALUE=URI:https://www.tricreek.k12.in.us/lhs/calendar/7360395/volleybal
 l-girls-jv-laporte-high-school-laporte-jv-tourney
DTSTART:20251011T140000Z
DTEND:20251011T160000Z
END:VEVENT
END:VCALENDAR
