BEGIN:VCALENDAR
VERSION:2.0
PRODID:SchoolNow
CALSCALE:GREGORIAN
BEGIN:VEVENT
UID:8c87361a-d9e9-11ef-8220-0a58a9feac02
DTSTAMP:20250124T002418Z
SUMMARY:Volleyball (Girls JV) - North Newton Jr-Sr High School
LOCATION:Lowell Senior High School
URL;VALUE=URI:https://www.tricreek.k12.in.us/lhs/calendar/7360396/volleybal
 l-girls-jv-north-newton-jr-sr-high-school
DTSTART:20241007T223000Z
DTEND:20241008T003000Z
END:VEVENT
END:VCALENDAR
