BEGIN:VCALENDAR
VERSION:2.0
PRODID:SchoolNow
CALSCALE:GREGORIAN
BEGIN:VEVENT
UID:8c8738f4-d9e9-11ef-9910-0a58a9feac02
DTSTAMP:20250124T002418Z
SUMMARY:Volleyball (Girls JV) - Merrillville High School
LOCATION:Lowell Senior High School
URL;VALUE=URI:https://www.tricreek.k12.in.us/lhs/calendar/7360399/volleybal
 l-girls-jv-merrillville-high-school
DTSTART:20250820T220000Z
DTEND:20250821T000000Z
END:VEVENT
END:VCALENDAR
