BEGIN:VCALENDAR
VERSION:2.0
PRODID:SchoolNow
CALSCALE:GREGORIAN
BEGIN:VEVENT
UID:8c8739da-d9e9-11ef-9b44-0a58a9feac02
DTSTAMP:20250124T002418Z
SUMMARY:Volleyball (Girls JV) @ Griffith Senior High School
LOCATION:Griffith Senior High School
URL;VALUE=URI:https://www.tricreek.k12.in.us/lhs/calendar/7360400/volleybal
 l-girls-jv-griffith-senior-high-school
DTSTART:20250917T223000Z
DTEND:20250918T003000Z
END:VEVENT
END:VCALENDAR
