BEGIN:VCALENDAR
VERSION:2.0
PRODID:SchoolNow
CALSCALE:GREGORIAN
BEGIN:VEVENT
UID:8c873b9c-d9e9-11ef-9508-0a58a9feac02
DTSTAMP:20250124T002418Z
SUMMARY:Volleyball (Girls JV) - Kankakee Valley High School
LOCATION:Lowell Senior High School
URL;VALUE=URI:https://www.tricreek.k12.in.us/lhs/calendar/7360402/volleybal
 l-girls-jv-kankakee-valley-high-school
DTSTART:20250930T223000Z
DTEND:20251001T003000Z
END:VEVENT
END:VCALENDAR
