BEGIN:VCALENDAR
VERSION:2.0
PRODID:SchoolNow
CALSCALE:GREGORIAN
BEGIN:VEVENT
UID:8c873c8c-d9e9-11ef-96b9-0a58a9feac02
DTSTAMP:20250124T002418Z
SUMMARY:Volleyball (Girls JV) @ Andrean High School
LOCATION:Andrean
URL;VALUE=URI:https://www.tricreek.k12.in.us/lhs/calendar/7360403/volleybal
 l-girls-jv-andrean-high-school
DTSTART:20251002T223000Z
DTEND:20251003T003000Z
END:VEVENT
END:VCALENDAR
