BEGIN:VCALENDAR
VERSION:2.0
PRODID:SchoolNow
CALSCALE:GREGORIAN
BEGIN:VEVENT
UID:8c873d68-d9e9-11ef-996d-0a58a9feac02
DTSTAMP:20250124T002418Z
SUMMARY:Volleyball (Girls JV) - Hebron
LOCATION:Lowell Senior High School
URL;VALUE=URI:https://www.tricreek.k12.in.us/lhs/calendar/7360404/volleybal
 l-girls-jv-hebron
DTSTART:20250915T220000Z
DTEND:20250916T000000Z
END:VEVENT
END:VCALENDAR
