BEGIN:VCALENDAR
VERSION:2.0
PRODID:SchoolNow
CALSCALE:GREGORIAN
BEGIN:VEVENT
UID:8c873ffc-d9e9-11ef-834d-0a58a9feac02
DTSTAMP:20250124T002418Z
SUMMARY:Volleyball (Girls JV) @ North Newton Jr-Sr High School
LOCATION:North Newton Jr-Sr High School
URL;VALUE=URI:https://www.tricreek.k12.in.us/lhs/calendar/7360407/volleybal
 l-girls-jv-north-newton-jr-sr-high-school
DTSTART:20251006T223000Z
DTEND:20251007T003000Z
END:VEVENT
END:VCALENDAR
