BEGIN:VCALENDAR
VERSION:2.0
PRODID:SchoolNow
CALSCALE:GREGORIAN
BEGIN:VEVENT
UID:8c8740e2-d9e9-11ef-adf7-0a58a9feac02
DTSTAMP:20250124T002418Z
SUMMARY:Volleyball (Girls JV) @ Wheeler High School
LOCATION:Wheeler High School
URL;VALUE=URI:https://www.tricreek.k12.in.us/lhs/calendar/7360408/volleybal
 l-girls-jv-wheeler-high-school
DTSTART:20241009T223000Z
DTEND:20241010T003000Z
END:VEVENT
END:VCALENDAR
