BEGIN:VCALENDAR
VERSION:2.0
PRODID:SchoolNow
CALSCALE:GREGORIAN
BEGIN:VEVENT
UID:8c87436c-d9e9-11ef-94eb-0a58a9feac02
DTSTAMP:20250124T002418Z
SUMMARY:Volleyball (Girls JV) - Wheeler High School
LOCATION:Lowell Senior High School
URL;VALUE=URI:https://www.tricreek.k12.in.us/lhs/calendar/7360411/volleybal
 l-girls-jv-wheeler-high-school
DTSTART:20251008T223000Z
DTEND:20251009T003000Z
END:VEVENT
END:VCALENDAR
