BEGIN:VCALENDAR
VERSION:2.0
PRODID:SchoolNow
CALSCALE:GREGORIAN
BEGIN:VEVENT
UID:8c874448-d9e9-11ef-a316-0a58a9feac02
DTSTAMP:20250124T002418Z
SUMMARY:Volleyball (Girls JV) - Hanover Central Jr-Sr High School
LOCATION:Lowell Senior High School
URL;VALUE=URI:https://www.tricreek.k12.in.us/lhs/calendar/7360412/volleybal
 l-girls-jv-hanover-central-jr-sr-high-school
DTSTART:20250911T223000Z
DTEND:20250912T003000Z
END:VEVENT
END:VCALENDAR
