BEGIN:VCALENDAR
VERSION:2.0
PRODID:SchoolNow
CALSCALE:GREGORIAN
BEGIN:VEVENT
UID:8c874524-d9e9-11ef-ac73-0a58a9feac02
DTSTAMP:20250124T002418Z
SUMMARY:Volleyball (Girls JV) @ Chesterton High School
LOCATION:Chesterton High School
URL;VALUE=URI:https://www.tricreek.k12.in.us/lhs/calendar/7360413/volleybal
 l-girls-jv-chesterton-high-school
DTSTART:20250821T220000Z
DTEND:20250822T000000Z
END:VEVENT
END:VCALENDAR
