BEGIN:VCALENDAR
VERSION:2.0
PRODID:SchoolNow
CALSCALE:GREGORIAN
BEGIN:VEVENT
UID:8c8745f6-d9e9-11ef-b6cb-0a58a9feac02
DTSTAMP:20250124T002418Z
SUMMARY:Volleyball (Girls JV) @ Munster High School
LOCATION:Munster High School
URL;VALUE=URI:https://www.tricreek.k12.in.us/lhs/calendar/7360414/volleybal
 l-girls-jv-munster-high-school
DTSTART:20250904T223000Z
DTEND:20250904T233000Z
END:VEVENT
END:VCALENDAR
