BEGIN:VCALENDAR
VERSION:2.0
PRODID:SchoolNow
CALSCALE:GREGORIAN
BEGIN:VEVENT
UID:8c8746d2-d9e9-11ef-96b4-0a58a9feac02
DTSTAMP:20250124T002418Z
SUMMARY:Basketball (Boys V) - Wheeler HS/Union Township MS
LOCATION:Lowell Senior High School
URL;VALUE=URI:https://www.tricreek.k12.in.us/lhs/calendar/7360415/basketbal
 l-boys-v-wheeler-hs-union-township-ms
DTSTART:20241204T010000Z
DTEND:20241204T030000Z
END:VEVENT
END:VCALENDAR
