BEGIN:VCALENDAR
VERSION:2.0
PRODID:SchoolNow
CALSCALE:GREGORIAN
BEGIN:VEVENT
UID:8c8747ae-d9e9-11ef-81c9-0a58a9feac02
DTSTAMP:20250124T002418Z
SUMMARY:Basketball (Boys V) - Valparaiso High School
LOCATION:Lowell Senior High School
URL;VALUE=URI:https://www.tricreek.k12.in.us/lhs/calendar/7360416/basketbal
 l-boys-v-valparaiso-high-school
DTSTART:20250129T010021Z
DTEND:20250129T030021Z
END:VEVENT
END:VCALENDAR
