BEGIN:VCALENDAR
VERSION:2.0
PRODID:SchoolNow
CALSCALE:GREGORIAN
BEGIN:VEVENT
UID:8c874970-d9e9-11ef-94a8-0a58a9feac02
DTSTAMP:20250124T002418Z
SUMMARY:Basketball (Boys V) @ Highland High School
LOCATION:Highland High School
URL;VALUE=URI:https://www.tricreek.k12.in.us/lhs/calendar/7360418/basketbal
 l-boys-v-highland-high-school
DTSTART:20250112T010000Z
DTEND:20250112T030000Z
END:VEVENT
END:VCALENDAR
