BEGIN:VCALENDAR
VERSION:2.0
PRODID:SchoolNow
CALSCALE:GREGORIAN
BEGIN:VEVENT
UID:8c874a4c-d9e9-11ef-93cf-0a58a9feac02
DTSTAMP:20250124T002418Z
SUMMARY:Basketball (Boys V) - River Forest Sr High School
LOCATION:Lowell Senior High School
URL;VALUE=URI:https://www.tricreek.k12.in.us/lhs/calendar/7360419/basketbal
 l-boys-v-river-forest-sr-high-school
DTSTART:20250221T010000Z
DTEND:20250221T030000Z
END:VEVENT
END:VCALENDAR
