BEGIN:VCALENDAR
VERSION:2.0
PRODID:SchoolNow
CALSCALE:GREGORIAN
BEGIN:VEVENT
UID:8c874b28-d9e9-11ef-a8e4-0a58a9feac02
DTSTAMP:20250124T002418Z
SUMMARY:Basketball (Boys V) @ Merrillville High School
LOCATION:Merrillville High School
URL;VALUE=URI:https://www.tricreek.k12.in.us/lhs/calendar/7360420/basketbal
 l-boys-v-merrillville-high-school
DTSTART:20260114T010000Z
DTEND:20260114T030000Z
END:VEVENT
END:VCALENDAR
