BEGIN:VCALENDAR
VERSION:2.0
PRODID:SchoolNow
CALSCALE:GREGORIAN
BEGIN:VEVENT
UID:8c874c0e-d9e9-11ef-8a45-0a58a9feac02
DTSTAMP:20250124T002418Z
SUMMARY:Basketball (Boys V) - West Side High School - Gary
LOCATION:Lowell Senior High School
URL;VALUE=URI:https://www.tricreek.k12.in.us/lhs/calendar/7360421/basketbal
 l-boys-v-west-side-high-school-gary
DTSTART:20260109T010000Z
DTEND:20260109T030000Z
END:VEVENT
END:VCALENDAR
