BEGIN:VCALENDAR
VERSION:2.0
PRODID:SchoolNow
CALSCALE:GREGORIAN
BEGIN:VEVENT
UID:8c874dbc-d9e9-11ef-b42b-0a58a9feac02
DTSTAMP:20250124T002418Z
SUMMARY:Basketball (Boys V) @ Michigan City High School
LOCATION:Michigan City High School
URL;VALUE=URI:https://www.tricreek.k12.in.us/lhs/calendar/7360423/basketbal
 l-boys-v-michigan-city-high-school
DTSTART:20251122T160000Z
DTEND:20251122T180000Z
END:VEVENT
END:VCALENDAR
