BEGIN:VCALENDAR
VERSION:2.0
PRODID:SchoolNow
CALSCALE:GREGORIAN
BEGIN:VEVENT
UID:8c874f74-d9e9-11ef-befd-0a58a9feac02
DTSTAMP:20250124T002418Z
SUMMARY:Basketball (Boys V) @ Griffith Senior High School
LOCATION:Griffith Senior High School
URL;VALUE=URI:https://www.tricreek.k12.in.us/lhs/calendar/7360425/basketbal
 l-boys-v-griffith-senior-high-school
DTSTART:20241207T010038Z
DTEND:20241207T030038Z
END:VEVENT
END:VCALENDAR
