BEGIN:VCALENDAR
VERSION:2.0
PRODID:SchoolNow
CALSCALE:GREGORIAN
BEGIN:VEVENT
UID:8c87512c-d9e9-11ef-b5da-0a58a9feac02
DTSTAMP:20250124T002418Z
SUMMARY:Basketball (Boys V) - Michigan City High School
LOCATION:Lowell Senior High School
URL;VALUE=URI:https://www.tricreek.k12.in.us/lhs/calendar/7360427/basketbal
 l-boys-v-michigan-city-high-school
DTSTART:20241123T160000Z
DTEND:20241123T180000Z
END:VEVENT
END:VCALENDAR
