BEGIN:VCALENDAR
VERSION:2.0
PRODID:SchoolNow
CALSCALE:GREGORIAN
BEGIN:VEVENT
UID:8c8752da-d9e9-11ef-b48e-0a58a9feac02
DTSTAMP:20250124T002418Z
SUMMARY:Basketball (Boys V) @ Boone Grove High School
LOCATION:Boone Grove High School
URL;VALUE=URI:https://www.tricreek.k12.in.us/lhs/calendar/7360429/basketbal
 l-boys-v-boone-grove-high-school
DTSTART:20251217T010000Z
DTEND:20251217T030000Z
END:VEVENT
END:VCALENDAR
