BEGIN:VCALENDAR
VERSION:2.0
PRODID:SchoolNow
CALSCALE:GREGORIAN
BEGIN:VEVENT
UID:8c8753b6-d9e9-11ef-9ee4-0a58a9feac02
DTSTAMP:20250124T002418Z
SUMMARY:Basketball (Boys V) @ LaPorte Tournament
LOCATION:LaPorte High School
URL;VALUE=URI:https://www.tricreek.k12.in.us/lhs/calendar/7360430/basketbal
 l-boys-v-laporte-tournament
DTSTART:20251226T150000Z
DTEND:20251226T170000Z
END:VEVENT
END:VCALENDAR
