BEGIN:VCALENDAR
VERSION:2.0
PRODID:SchoolNow
CALSCALE:GREGORIAN
BEGIN:VEVENT
UID:8c875492-d9e9-11ef-ad95-0a58a9feac02
DTSTAMP:20250124T002418Z
SUMMARY:Basketball (Boys V) - Merrillville High School
LOCATION:Lowell Senior High School
URL;VALUE=URI:https://www.tricreek.k12.in.us/lhs/calendar/7360431/basketbal
 l-boys-v-merrillville-high-school
DTSTART:20250115T010000Z
DTEND:20250115T030000Z
END:VEVENT
END:VCALENDAR
