BEGIN:VCALENDAR
VERSION:2.0
PRODID:SchoolNow
CALSCALE:GREGORIAN
BEGIN:VEVENT
UID:8c87556e-d9e9-11ef-b798-0a58a9feac02
DTSTAMP:20250124T002418Z
SUMMARY:Basketball (Boys V) - Highland High School
LOCATION:Lowell Senior High School
URL;VALUE=URI:https://www.tricreek.k12.in.us/lhs/calendar/7360432/basketbal
 l-boys-v-highland-high-school
DTSTART:20260111T010000Z
DTEND:20260111T030000Z
END:VEVENT
END:VCALENDAR
