BEGIN:VCALENDAR
VERSION:2.0
PRODID:SchoolNow
CALSCALE:GREGORIAN
BEGIN:VEVENT
UID:8c87564a-d9e9-11ef-8944-0a58a9feac02
DTSTAMP:20250124T002418Z
SUMMARY:Basketball (Boys V) - Illiana Christian High School
LOCATION:Lowell Senior High School
URL;VALUE=URI:https://www.tricreek.k12.in.us/lhs/calendar/7360433/basketbal
 l-boys-v-illiana-christian-high-school
DTSTART:20260121T010005Z
DTEND:20260121T030005Z
END:VEVENT
END:VCALENDAR
