BEGIN:VCALENDAR
VERSION:2.0
PRODID:SchoolNow
CALSCALE:GREGORIAN
BEGIN:VEVENT
UID:8c875726-d9e9-11ef-a3ed-0a58a9feac02
DTSTAMP:20250124T002418Z
SUMMARY:Basketball (Boys V) - Morgan Township Middle/High School
LOCATION:Lowell Senior High School
URL;VALUE=URI:https://www.tricreek.k12.in.us/lhs/calendar/7360434/basketbal
 l-boys-v-morgan-township-middle-high-school
DTSTART:20251126T010000Z
DTEND:20251126T030000Z
END:VEVENT
END:VCALENDAR
