BEGIN:VCALENDAR
VERSION:2.0
PRODID:SchoolNow
CALSCALE:GREGORIAN
BEGIN:VEVENT
UID:8c87580c-d9e9-11ef-b713-0a58a9feac02
DTSTAMP:20250124T002418Z
SUMMARY:Basketball (Boys V) @ Illiana Christian High School
LOCATION:Illiana Christian High School
URL;VALUE=URI:https://www.tricreek.k12.in.us/lhs/calendar/7360435/basketbal
 l-boys-v-illiana-christian-high-school
DTSTART:20250123T010054Z
DTEND:20250123T030054Z
END:VEVENT
END:VCALENDAR
