BEGIN:VCALENDAR
VERSION:2.0
PRODID:SchoolNow
CALSCALE:GREGORIAN
BEGIN:VEVENT
UID:8c875a96-d9e9-11ef-9d6b-0a58a9feac02
DTSTAMP:20250124T002418Z
SUMMARY:Basketball (Boys V) @ LaPorte High School
LOCATION:LaPorte High School
URL;VALUE=URI:https://www.tricreek.k12.in.us/lhs/calendar/7360438/basketbal
 l-boys-v-laporte-high-school
DTSTART:20251213T010000Z
DTEND:20251213T030000Z
END:VEVENT
END:VCALENDAR
