BEGIN:VCALENDAR
VERSION:2.0
PRODID:SchoolNow
CALSCALE:GREGORIAN
BEGIN:VEVENT
UID:8c875b72-d9e9-11ef-ab91-0a58a9feac02
DTSTAMP:20250124T002418Z
SUMMARY:Basketball (Boys V) @ Morgan Township Middle/High School
LOCATION:Morgan Township Middle/High School
URL;VALUE=URI:https://www.tricreek.k12.in.us/lhs/calendar/7360439/basketbal
 l-boys-v-morgan-township-middle-high-school
DTSTART:20241127T010000Z
DTEND:20241127T030000Z
END:VEVENT
END:VCALENDAR
