BEGIN:VCALENDAR
VERSION:2.0
PRODID:SchoolNow
CALSCALE:GREGORIAN
BEGIN:VEVENT
UID:8c875dfc-d9e9-11ef-9fc6-0a58a9feac02
DTSTAMP:20250124T002418Z
SUMMARY:Basketball (Boys V) @ Kouts
LOCATION:Kouts
URL;VALUE=URI:https://www.tricreek.k12.in.us/lhs/calendar/7360442/basketbal
 l-boys-v-kouts
DTSTART:20250223T010000Z
DTEND:20250223T030000Z
END:VEVENT
END:VCALENDAR
